BEGIN:VCALENDAR
VERSION:2.0
PRODID:-//wp-events-plugin.com//7.2.3.1//EN
TZID:America/New_York
X-WR-TIMEZONE:America/New_York
BEGIN:VEVENT
UID:4237@loudounchamber.org
DTSTART;TZID=America/New_York:20260429T080000
DTEND;TZID=America/New_York:20260429T100000
DTSTAMP:20260422T172516Z
URL:https://www.loudounchamber.org/events/policymaker-series-the-state-of-
 loudoun-housing/
SUMMARY:PolicyMaker Series: The State of Housing
DESCRIPTION:Addressing NoVa's Regional Affordability Crisis\nLike many regi
 ons across the country\, Northern Virginia is confronting a housing afford
 ability crisis that is making it increasingly difficult to attract and ret
 ain the workforce our economy needs to compete and thrive in a global mark
 etplace. As demand grows\, addressing these challenges is more urgent than
  ever\n\nOn April 29\, the Loudoun Chamber will bring together federal and
  regional experts to discuss solutions that increase the supply of attaina
 ble housing in Virginia and Loudoun. This event\, part of the 2026 Policy
 Maker Series\, will feature a keynote presentation by Dennis Shea\, Execu
 tive Vice President and Chair of the J. Ronald Terwilliger Center for Hous
 ing Policy at the Bipartisan Policy Center\, and Eric Keeler\, Director of
  Loudoun County’s Department of Housing and Community Development (DHCD)
 \, who will offer insights on housing policy and its importance to our com
 munities at large.\n\nA panel of distinguished experts will follow\, discu
 ssing how market-rate and attainable housing can create vibrant\, thriving
  communities in Loudoun.\n\nFeatured Panelists:\n\nPaul Bernard\, Presiden
 t &amp\; CEO\, Affordable Homes &amp\; Communities (AHC)\nKim Hart\, Mana
 ging Member\, Good Housing VA\nDon Knutson\, President\, The Knutson Com
 panies\nJill Norcross\, Executive Director\, Northern Virginia Affordable 
 Housing Alliance (NVAHA)\n\nThis is a must-attend event for anyone investe
 d in Loudoun’s housing future. Register today and join us on April 29
  to be part of the conversation\n\nDirections: The event is located at th
 e Belmont Country Club Clubhouse – use the front gate from Russell Branc
 h Pkwy (across from Whole Foods shopping center) to enter the Country Club
  and let the security guard know that you’re attending the Chamber event
 . After entering the main gate\, turn right at the roundabout and then fol
 low the road up to the Manor/Clubhouse. Park wherever you would like. Th
 e event is in the upstairs ballroom.
ATTACH;FMTTYPE=image/jpeg:https://www.loudounchamber.org/wp-content/upload
 s/2019/05/PMhousing19_featured.jpg
CATEGORIES:Chamber Event
LOCATION:Belmont Country Club\, 43750 Tournament Parkway\, Ashburn \, VA\, 
 20147\, United States
GEO:39.0655407;-77.48712390000003
X-APPLE-STRUCTURED-LOCATION;VALUE=URI;X-ADDRESS=43750 Tournament Parkway\, 
 Ashburn \, VA\, 20147\, United States;X-APPLE-RADIUS=100;X-TITLE=Belmont C
 ountry Club:geo:39.0655407,-77.48712390000003
END:VEVENT
BEGIN:VTIMEZONE
TZID:America/New_York
X-LIC-LOCATION:America/New_York
BEGIN:DAYLIGHT
DTSTART:20260308T030000
TZOFFSETFROM:-0500
TZOFFSETTO:-0400
TZNAME:EDT
END:DAYLIGHT
END:VTIMEZONE
END:VCALENDAR