BEGIN:VCALENDAR
VERSION:2.0
PRODID:-//wp-events-plugin.com//7.2.3.1//EN
TZID:America/New_York
X-WR-TIMEZONE:America/New_York
BEGIN:VEVENT
UID:4330@loudounchamber.org
DTSTART;TZID=America/New_York:20260709T080000
DTEND;TZID=America/New_York:20260709T093000
DTSTAMP:20260423T181953Z
URL:https://www.loudounchamber.org/events/july-business-breakfast-2026/
SUMMARY:July Business @ Breakfast Copy
DESCRIPTION:\nStart Your Day With Coffee &amp\; Networking\n\nReady to make
  meaningful business connections? Join us at Business @ Breakfast\, our po
 pular monthly roundtable networking event held at Belmont Country Club.\nT
 his isn’t your average networking event. It’s a structured\, high-valu
 e morning designed to help you connect with a diverse group of fellow Cham
 ber members.\n\nYou’ll leave with new contacts and powerful insights tha
 t can help your business grow. Don’t forget to bring plenty of business 
 cards!\nGuest Emcee: Shawn Mitchell\, Modern Mechanical\, LLC\n\n\n\nEvent
  Notes:\n\n\n\n\n 	2026 Networking Season Pass: Save time and money with 
 this discounted pass to Business @ Breakfast and Loudoun On Tap events!\n 
 	Directions: The event is located at the Belmont Country Club Clubhouse 
 – use the front gate from Russell Branch Pkwy (across from Whole Foods s
 hopping center) to enter the Country Club and let the security guard know 
 that you’re attending the Chamber event. After entering the main gate\,
  turn right at the roundabout and follow the road to the Manor/Clubhouse. 
 Park wherever you would like. The event is in the upstairs ballroom.\n 	Ar
 e you Interested in Promoting Your Business By Donating a Door Prize? This
  opportunity is exclusive to Chamber members. Please only bring prizes val
 ued at $25 or more. Print a short description (50 words or less)\, and bri
 ng the door prize to the event.\n\n
ATTACH;FMTTYPE=image/jpeg:https://www.loudounchamber.org/wp-content/upload
 s/2025/12/BreakfastWebsite2026_featured5.png
CATEGORIES:Chamber Event
LOCATION:Belmont Country Club\, 43750 Tournament Parkway\, Ashburn \, VA\, 
 20147\, United States
GEO:39.0655407;-77.48712390000003
X-APPLE-STRUCTURED-LOCATION;VALUE=URI;X-ADDRESS=43750 Tournament Parkway\, 
 Ashburn \, VA\, 20147\, United States;X-APPLE-RADIUS=100;X-TITLE=Belmont C
 ountry Club:geo:39.0655407,-77.48712390000003
END:VEVENT
BEGIN:VTIMEZONE
TZID:America/New_York
X-LIC-LOCATION:America/New_York
BEGIN:DAYLIGHT
DTSTART:20260308T030000
TZOFFSETFROM:-0500
TZOFFSETTO:-0400
TZNAME:EDT
END:DAYLIGHT
END:VTIMEZONE
END:VCALENDAR