BEGIN:VCALENDAR
VERSION:2.0
PRODID:-//wp-events-plugin.com//7.2.3.1//EN
TZID:America/New_York
X-WR-TIMEZONE:America/New_York
BEGIN:VEVENT
UID:4308@loudounchamber.org
DTSTART;TZID=America/New_York:20260603T170000
DTEND;TZID=America/New_York:20260603T193000
DTSTAMP:20260415T150207Z
URL:https://www.loudounchamber.org/events/business-women-of-loudoun-summer
 -social-2026/
SUMMARY:Business Women of Loudoun: Summer Social
DESCRIPTION:Business Women of Loudoun Summer Social\nJoin us for a relaxed 
 and inspiring evening of connection as the Business Women of Loudoun and T
 he CEO Woman host our annual Summer Social at at the beautifully renovated
  The Barn at Brambleton in Ashburn.\nGather with a vibrant community of wo
 men in business from across Loudoun and the surrounding area to build rela
 tionships\, share ideas\, and enjoy a summer evening together in a warm an
 d welcoming setting. Whether you're looking to expand your network or reco
 nnect with familiar faces\, this event offers the perfect opportunity to d
 o both.\nEnjoy delicious food and refreshing beverages as you connect with
  fellow professionals in a space designed for conversation and community.\
 nThis event is open to all and welcomes women at every stage of their prof
 essional journey.\n
ATTACH;FMTTYPE=image/jpeg:https://www.loudounchamber.org/wp-content/upload
 s/2024/04/barn2.jpg
CATEGORIES:Chamber Event
LOCATION:The Barn at Brambleton\, 24439 Evergreen Mills Road\, Brambleton\,
  VA\, 20148\, United States
GEO:38.96088;-77.534728
X-APPLE-STRUCTURED-LOCATION;VALUE=URI;X-ADDRESS=24439 Evergreen Mills Road\
 , Brambleton\, VA\, 20148\, United States;X-APPLE-RADIUS=100;X-TITLE=The B
 arn at Brambleton:geo:38.96088,-77.534728
END:VEVENT
BEGIN:VTIMEZONE
TZID:America/New_York
X-LIC-LOCATION:America/New_York
BEGIN:DAYLIGHT
DTSTART:20260308T030000
TZOFFSETFROM:-0500
TZOFFSETTO:-0400
TZNAME:EDT
END:DAYLIGHT
END:VTIMEZONE
END:VCALENDAR